BEGIN:VCALENDAR
VERSION:2.0
PRODID:-//Families First Society - ECPv5.14.1//NONSGML v1.0//EN
CALSCALE:GREGORIAN
METHOD:PUBLISH
X-WR-CALNAME:Families First Society
X-ORIGINAL-URL:https://familiesfirstsociety.ca
X-WR-CALDESC:Events for Families First Society
REFRESH-INTERVAL;VALUE=DURATION:PT1H
X-Robots-Tag:noindex
X-PUBLISHED-TTL:PT1H
BEGIN:VTIMEZONE
TZID:America/Denver
BEGIN:DAYLIGHT
TZOFFSETFROM:-0700
TZOFFSETTO:-0600
TZNAME:MDT
DTSTART:20220313T090000
END:DAYLIGHT
BEGIN:STANDARD
TZOFFSETFROM:-0600
TZOFFSETTO:-0700
TZNAME:MST
DTSTART:20221106T080000
END:STANDARD
END:VTIMEZONE
BEGIN:VEVENT
DTSTART;TZID=America/Denver:20220914T180000
DTEND;TZID=America/Denver:20220914T200000
DTSTAMP:20220914T210312
CREATED:20220802T152249Z
LAST-MODIFIED:20220802T152249Z
UID:6812-1663178400-1663185600@familiesfirstsociety.ca
SUMMARY:Parenting Through Connection
DESCRIPTION:Have you ever wondered what is going on a child’s brain? \n\n\n\nAugust 17:\nBig emotions\n\n\nAugust 24:\nBuilding healthy relationships with children\n\n\nSeptember 14:\nA child to take charge of their feelings\n\n\nSeptember 21:\nA child’s well being\n\n\n\nWhen:            Wednesday evenings \nWho:               Parents/caregivers with children aged 3 to 14 years\nWhere:           Gibbons Family Resource Centre 5016 50 St \nTime:              6:00PM to 8:00PM \n 
URL:https://familiesfirstsociety.ca/event/parenting-through-connection-3/
END:VEVENT
BEGIN:VEVENT
DTSTART;TZID=America/Denver:20220921T180000
DTEND;TZID=America/Denver:20220921T200000
DTSTAMP:20220914T210312
CREATED:20220802T152327Z
LAST-MODIFIED:20220802T171713Z
UID:6813-1663783200-1663790400@familiesfirstsociety.ca
SUMMARY:Parenting Through Connection
DESCRIPTION:Have you ever wondered what is going on a child’s brain? \n\n\n\nAugust 17:\nBig emotions\n\n\nAugust 24:\nBuilding healthy relationships with children\n\n\nSeptember 14:\nA child to take charge of their feelings\n\n\nSeptember 21:\nA child’s well being\n\n\n\nWhen:            Wednesday evenings \nWho:               Parents/caregivers with children aged 3 to 14 years\nWhere:           Gibbons Family Resource Centre 5016 50 St \nTime:              6:00PM to 8:00PM \n 
URL:https://familiesfirstsociety.ca/event/parenting-through-connection-4/
END:VEVENT
BEGIN:VEVENT
DTSTART;TZID=America/Denver:20220927T100000
DTEND;TZID=America/Denver:20220927T110000
DTSTAMP:20220914T210312
CREATED:20220907T132309Z
LAST-MODIFIED:20220909T142050Z
UID:6826-1664272800-1664276400@familiesfirstsociety.ca
SUMMARY:Parent Child Mother Goose
DESCRIPTION:This free program is a group experience for parents /caregivers\nand their babies and young children focusing on the pleasure and power\nof using songs\, rhymes and oral stories. \nRegistrations begins Friday\, Sept 9 \nTuesday Mornings \nLocation: TBA\n*Infants 0 to 18 months*\nSeptember 27 to November 29\n10:00 to 11:00 am
URL:https://familiesfirstsociety.ca/event/parent-child-mother-goose/
END:VEVENT
BEGIN:VEVENT
DTSTART;TZID=America/Denver:20220928T100000
DTEND;TZID=America/Denver:20220928T110000
DTSTAMP:20220914T210312
CREATED:20220907T132848Z
LAST-MODIFIED:20220909T141945Z
UID:6827-1664359200-1664362800@familiesfirstsociety.ca
SUMMARY:Parent Child Mother Goose
DESCRIPTION:Parent-Child Mother Goose Program® – 10 weeks\nThis free program is a group experience for parents /caregivers\nand their babies and young children focusing on the pleasure and power\nof using songs\, rhymes and oral stories. \nRegistration begins Friday\, Sept 9 \nWednesday mornings\n*Toddlers 18 to 36 months*\nSeptember 28 to November 30\n10:00 to 11:00 am
URL:https://familiesfirstsociety.ca/event/parent-child-mother-goose-2/
END:VEVENT
BEGIN:VEVENT
DTSTART;TZID=America/Denver:20220928T180000
DTEND;TZID=America/Denver:20220928T190000
DTSTAMP:20220914T210312
CREATED:20220907T133151Z
LAST-MODIFIED:20220909T141723Z
UID:6828-1664388000-1664391600@familiesfirstsociety.ca
SUMMARY:Parent Child Mother Goose
DESCRIPTION:Parent-Child Mother Goose Program® – 10 weeks\nThis free program is a group experience for parents /caregivers\nand their babies and young children focusing on the pleasure and power\nof using songs\, rhymes and oral stories. \nRegistration begins Friday\, Sept 9 \nWednesday evenings\n*Children 0 to 3 years*\nSeptember 28 to November 30\n6:00 to 7:00 pm
URL:https://familiesfirstsociety.ca/event/parent-child-mother-goose-3/
END:VEVENT
BEGIN:VEVENT
DTSTART;TZID=America/Denver:20220929T093000
DTEND;TZID=America/Denver:20220929T223000
DTSTAMP:20220914T210312
CREATED:20220907T133327Z
LAST-MODIFIED:20220909T141548Z
UID:6829-1664443800-1664490600@familiesfirstsociety.ca
SUMMARY:Parent Child Mother Goose
DESCRIPTION:Parent-Child Mother Goose Program® – 10 weeks\nThis free program is a group experience for parents /caregivers\nand their babies and young children focusing on the pleasure and power\nof using songs\, rhymes and oral stories. \nRegistration begins Friday\, Sept 9 \nThursday mornings\n*Children 0 to 3 years*\nSeptember 29 to December 01\n9:30 to 10:30 am
URL:https://familiesfirstsociety.ca/event/parent-child-mother-goose-4/
END:VEVENT
END:VCALENDAR